BEGIN:VCALENDAR
VERSION:2.0
PRODID:-//wp-events-plugin.com//7.2.3.1//EN
BEGIN:VEVENT
UID:0-586@tag-der-artenvielfalt-bw.de
DTSTART:20260614T090000Z
DTEND:20260614T120000Z
DTSTAMP:20260306T161334Z
URL:https://tag-der-artenvielfalt-bw.de/tda/exkurs-ins-reich-der-biber/
SUMMARY:Exkurs ins Reich der Biber
DESCRIPTION:Zum Tag der Artenvielfalt machen wir einen Ausflug ins Reich de
 r Biber.\n\nDurch die Rückkehr der Biber entstehen hochwertige Naturfläc
 hen. Aus monotonen Seggenwiesen werden strukturierte Landschaften.\nInnerh
 alb weniger Jahren haben Biber ehemalige Nasswiesen umgestaltet. In den ne
 uen Lebensräumen explodiert die Artenvielfalt. Als ausgestorben geltende 
 Arten siedeln sich wieder an.\nIn Eisenbach haben wir die Möglichkeit die
 se Entwicklung live zu erleben.\n\nGehzeit: 2 Std.\, leichte Wanderung (5 
 km) in unwegsamem Gelände\, Wasserfestes Schuhwerk.\n\nkostenlose Teilnah
 me\n\nOrganisation: Martin Welte (Tel. 01573 7425345)\n\n[caption id="atta
 chment_42174" align="alignleft" width="400"] Foto: Martin Welte[/caption]
CATEGORIES:Amphibien,Insekten,Pilze,Reptilien,Vögel,Wald
LOCATION:Exkurs ins Reich der Biber Grillplatz Weibermoos\, Römerweg\, Eis
 enbach (Hochschwarzwald)\, 79871\, Deutschland
GEO:47.944374;8.281701
X-APPLE-STRUCTURED-LOCATION;VALUE=URI;X-ADDRESS=Römerweg\, Eisenbach (Hoch
 schwarzwald)\, 79871\, Deutschland;X-APPLE-RADIUS=100;X-TITLE=Grillplatz W
 eibermoos:geo:47.944374,8.281701
END:VEVENT
END:VCALENDAR