BEGIN:VCALENDAR
VERSION:2.0
PRODID:-//wp-events-plugin.com//7.2.3.1//EN
BEGIN:VEVENT
UID:0-643@tag-der-artenvielfalt-bw.de
DTSTART:20260613T183000Z
DTEND:20260613T210000Z
DTSTAMP:20260420T073316Z
URL:https://tag-der-artenvielfalt-bw.de/tda/fledermaeuse-entdecken-mit-dem
 -batdetektor/
SUMMARY:Fledermäuse entdecken mit dem Batdetektor
DESCRIPTION:Ort: Mehrgenerationenhaus Donaueschingen\n\nIm Mehrgenerationen
 hau montieren wir unter Anleitung von Henry Probst aus Bausätzen Flederma
 us-Detektoren. Damit lassen sich die Ultraschallrufe der Fledermäuse in h
 örbaren Schall umwandeln. Die Bausätze können für 20 € erworben werd
 en.\n\nDanach werden wir bei hoffentlich gutem Wetter die Geräte an der B
 rigach testen und probieren\, ob wir fliegende Fledermäuse sehen und hör
 en können. .\n\nwww.umwelt-baar.de\n\nAnmeldung: umweltgruppe-suedbaar@t-
 online.de
CATEGORIES:Fledermäuse
LOCATION:Fledermäuse entdecken mit dem Batdetektor Mehrgenerationenhaus Do
 naueschingen\, Schulstr.5\, Donaueschingen\, 78166\, Deutschland
GEO:47.953592;8.499028
X-APPLE-STRUCTURED-LOCATION;VALUE=URI;X-ADDRESS=Schulstr.5\, Donaueschingen
 \, 78166\, Deutschland;X-APPLE-RADIUS=100;X-TITLE=Mehrgenerationenhaus Don
 aueschingen:geo:47.953592,8.499028
END:VEVENT
END:VCALENDAR