BEGIN:VCALENDAR
VERSION:2.0
PRODID:-//wp-events-plugin.com//7.2.3.1//EN
BEGIN:VEVENT
UID:0-644@tag-der-artenvielfalt-bw.de
DTSTART:20260620T120000Z
DTEND:20260620T140000Z
DTSTAMP:20260424T142533Z
URL:https://tag-der-artenvielfalt-bw.de/tda/fliessgewaesser-monitoring-flo
 w-untersuchung-am-biddersbach-in-wiesenbach/
SUMMARY:Fließgewässer-Monitoring: FLOW-Untersuchung am Biddersbach in Wie
 senbach
DESCRIPTION:FLOW ist ein Citizen Science-Projekt zum ökologischen Monitori
 ng kleiner Fließgewässer. Ziel des FLOW-Projekts ist es\, gemeinsam mit 
 interessierten Bürger:innen den ökologischen Zustand kleiner Bäche zu u
 ntersuchen und zu bewerten.\n\nDer BUND beteiligt sich seit Jahren an dem 
 Standort Biddersbach in Wiesenbach am FLOW-Projekt und organisiert vor Ort
  die Probenahme sowie deren Auswertung.\n\nWir freuen uns über Unterstüt
 zung!\n\nKontakt: bund.rhein-neckar-odenwald@bund.net\n\n&nbsp\;\n\n&nbsp\
 ;
CATEGORIES:Gewässer,Insekten,Sonstige
LOCATION:Fließgewässer-Monitoring: FLOW-Untersuchung am Biddersbach in Wi
 esenbach Bürgerhaus Wiesenbach\, Hauptstr. 24\, Wiesenbach\, 69257 \, Deu
 tschland
GEO:49.359151;8.803723
X-APPLE-STRUCTURED-LOCATION;VALUE=URI;X-ADDRESS=Hauptstr. 24\, Wiesenbach\,
  69257 \, Deutschland;X-APPLE-RADIUS=100;X-TITLE=Bürgerhaus Wiesenbach:ge
 o:49.359151,8.803723
END:VEVENT
END:VCALENDAR