BEGIN:VCALENDAR
VERSION:2.0
PRODID:-//wp-events-plugin.com//7.2.3.1//EN
BEGIN:VEVENT
UID:0-550@tag-der-artenvielfalt-bw.de
DTSTART:20260613T130000Z
DTEND:20260613T160000Z
DTSTAMP:20260119T103231Z
URL:https://tag-der-artenvielfalt-bw.de/tda/gefuehrte-kraeuterwanderung-in
 -bad-wildbad-2/
SUMMARY:Geführte Kräuterwanderung in Bad Wildbad
DESCRIPTION:Erleben Sie die Welt der Schwarzwälder Kräuter in Bad Wildbad
  – im Rahmen des Tags der Artenvielfalt!\nTauchen Sie ein in die faszini
 erende Welt der heimischen Kräuter und entdecken Sie ihre vielseitigen Ve
 rwendungsmöglichkeiten. Die Tour startet im idyllischen Kurpark von Bad W
 ildbad und führt entlang der kühlenden Enz bis zur Marienruhe. Von dort 
 aus geht es hinauf zum Sonnenweg\, wo Sie am Waldrand ein Stück des bekan
 nten "Mittelwegs" erkunden. Der Abstieg erfolgt über die Sommersteige\, v
 orbei an der Vital-Therme\, zurück in den Kurpark.\nUnterwegs erfahren Si
 e Wissenswertes über heimische Kräuter und Beeren – und was sich darau
 s Leckeres zaubern lässt. Natürlich gibt es auch Kostproben! Freuen Sie 
 sich auf eine abwechslungsreiche Rundwanderung in Halbhöhenlage und genie
 ßen Sie die Schönheit der Natur.\nWichtige Informationen:\n\nWann: 14:00
  Uhr/ Dauer ca. 3 Stunden\nPreis: 9\,00€ pro Person\, 6\,00€ vergünst
 igt mit Gästekarte\nTreffpunkt: Tourist Information Bad Wildbad\n\nBitte 
 beachten Sie:\n\nEine Anmeldung ist dringend erforderlich.\n\nDie Bezahlun
 g erfolgt in der Tourist Information.\nFür Getränke und ggf. Zeckenschut
 z ist selbst zu sorgen.\nGeeignete Kleidung für jedes Wetter.\nBei Unwett
 er sind keine Wanderungen möglich.\n\nWebsite
CATEGORIES:Botanik,Naturgärten,Wald
LOCATION:Geführte Kräuterwanderung in Bad Wildbad Touristik Bad Wildbad G
 mbH\, König-Karl-Straße 5\, Bad Wildbad\, 75323\, Deutschland
GEO:48.749537;8.54918
X-APPLE-STRUCTURED-LOCATION;VALUE=URI;X-ADDRESS=König-Karl-Straße 5\, Bad
  Wildbad\, 75323\, Deutschland;X-APPLE-RADIUS=100;X-TITLE=Touristik Bad Wi
 ldbad GmbH:geo:48.749537,8.54918
END:VEVENT
END:VCALENDAR