BEGIN:VCALENDAR
VERSION:2.0
PRODID:-//wp-events-plugin.com//7.2.3.1//EN
BEGIN:VEVENT
UID:0-583@tag-der-artenvielfalt-bw.de
DTSTART:20260614T093000Z
DTEND:20260614T133000Z
DTSTAMP:20260304T165339Z
URL:https://tag-der-artenvielfalt-bw.de/tda/kraeuterwanderung-mit-anschlie
 ssendem-fladenbacken-im-lehmofen/
SUMMARY:Kräuterwanderung mit anschließendem Fladenbacken im Lehmofen
DESCRIPTION:Wir bestimmen und sammeln Wildkräuter \, belegen sie im Anschl
 uss auf Flammkuchenboden\, diese werden im Lehmofen gebacken\n\nLeitung: D
 r. Karola Keitel\, Dr. Klaus Rösch\n\nVeranstaltungsort: Strecke zwischen
  Bahnof Spielberg und Waldkulturpfad /Lehmofen\, Treffpunkt Bahnhaltestell
 e S11 in Spielberg\n\nInfos und Anmeldung (ist erforderlich): Dr. Klaus R
 ösch\, Tel: 0177 5900684\, Mail: klaus_roesch@t-online.de\n\nmax. Teilnah
 mezahl: 30 Personen\n\nSpende erbeten\n\nEine Veranstaltung des BUND Mittl
 eres Albtal / Projekt Artenvielfalt\, siehe https://www.kraeutergarten-wal
 dbronn.de/projekt-artenvielfalt/ oder https://mittleres-albtal.bund.net/te
 rmine-1/
CATEGORIES:Botanik
LOCATION:Kräuterwanderung mit anschließendem Fladenbacken im Lehmofen Bah
 nhaltestelle\, Waldkulturpfad\, Bahnhaltestelle S11 in Karlsbad-Spielberg\
 , 76307 \, Deutschland
GEO:48.900703;8.478976
X-APPLE-STRUCTURED-LOCATION;VALUE=URI;X-ADDRESS=Waldkulturpfad\, Bahnhaltes
 telle S11 in Karlsbad-Spielberg\, 76307 \, Deutschland;X-APPLE-RADIUS=100;
 X-TITLE=Bahnhaltestelle:geo:48.900703,8.478976
END:VEVENT
END:VCALENDAR