BEGIN:VCALENDAR
VERSION:2.0
PRODID:-//wp-events-plugin.com//7.2.3.1//EN
BEGIN:VEVENT
UID:0-641@tag-der-artenvielfalt-bw.de
DTSTART:20260613T130000Z
DTEND:20260613T150000Z
DTSTAMP:20260420T072822Z
URL:https://tag-der-artenvielfalt-bw.de/tda/krautschau-in-donaueschingen/
SUMMARY:Krautschau in Donaueschingen
DESCRIPTION:Das Konzept der „Krautschau“ möchte auf die Artenvielfalt 
 in der Stadt hinweisen und für die Toleranz gegenüber „Unkräutern“ 
 am Straßenrand werben. Fundorte wild wachsender Pflanzen im dicht besiede
 lten Bereich werden durch Kreidehinweise auf Gehwegen markiert. Wir werden
  auf einem Spaziergang in der Innenstadt erfahren\, was dort alles wächst
  und einen botanischen Parcours zurücklassen.\nhttps://kurzlinks.de/qvgu\
 nwww.umwelt-baar.de\n\nAnmeldung: nicht erforderlich\, kein Teilnehmerbeit
 rag
CATEGORIES:Botanik
LOCATION:Krautschau in Donaueschingen Donaueschingen Irmapark\, Irmastraße
  4\, Donaueschingen\, 78166\, Deutschland
GEO:47.950407;8.497312
X-APPLE-STRUCTURED-LOCATION;VALUE=URI;X-ADDRESS=Irmastraße 4\, Donaueschin
 gen\, 78166\, Deutschland;X-APPLE-RADIUS=100;X-TITLE=Donaueschingen Irmapa
 rk:geo:47.950407,8.497312
END:VEVENT
END:VCALENDAR