BEGIN:VCALENDAR
VERSION:2.0
PRODID:-//wp-events-plugin.com//7.2.3.1//EN
BEGIN:VEVENT
UID:0-552@tag-der-artenvielfalt-bw.de
DTSTART:20260613T190000Z
DTEND:20260613T210000Z
DTSTAMP:20260120T152532Z
URL:https://tag-der-artenvielfalt-bw.de/tda/nabu-abendfuehrung-zum-federse
 e/
SUMMARY:NABU-Abendführung zum Federsee
DESCRIPTION:Auf dieser stimmungsvollen Abendführung lernen Sie den Federse
 e mit seiner vielfältigen Tier- und Pflanzenwelt kennen. Die Führung fü
 hrt über den Federseesteg hinaus auf eine Plattform im See. Am Ende der F
 ührung wartet ein farbenprächtiger Sonnenuntergang über dem See.\n\nTre
 ffpunkt: NABU-Naturschutzzentrum Federsee\, Federseeweg 6\, 88422 Bad Buch
 au\, Tel. 07582/1566\n\nTeilnahmebeitrag: 6.- € Erw.\; Ermäßigung für
  Studierende\, Jugendliche\, Kinder\, Menschen mit Einschränkungen und NA
 BU-Mitglieder sowie Übernachtungsgäste und Patient*innen in Bad Buchau\n
 \nKontakt und Infos: Kerstin Beck\, Öffentlichkeitsarbeit &amp\; Umweltbi
 ldung NABU-Naturschutzzentrum Federsee\, info@nabu-federsee.de\n\nWebsite
CATEGORIES:Gewässer,Vögel
LOCATION:NABU-Abendführung zum Federsee NABU-Naturschutzzentrum Federsee\,
  Federseeweg 6\, 884232\, 88422\, Deutschland
GEO:48.068986;9.610288
X-APPLE-STRUCTURED-LOCATION;VALUE=URI;X-ADDRESS=Federseeweg 6\, 884232\, 88
 422\, Deutschland;X-APPLE-RADIUS=100;X-TITLE=NABU-Naturschutzzentrum Feder
 see:geo:48.068986,9.610288
END:VEVENT
END:VCALENDAR