BEGIN:VCALENDAR
VERSION:2.0
PRODID:-//wp-events-plugin.com//7.2.3.1//EN
BEGIN:VEVENT
UID:0-549@tag-der-artenvielfalt-bw.de
DTSTART:20260613T170000Z
DTEND:20260613T190000Z
DTSTAMP:20260119T104119Z
URL:https://tag-der-artenvielfalt-bw.de/tda/nabu-garten-erleben/
SUMMARY:NABU-Garten erleben!
DESCRIPTION:Wir nehmen den Tag der Artenvielfalt als Anlass und bieten im N
 ABU-Garten in Niederrimsingen Führungen an. Wir berichten über die Entst
 ehung des Gartens und teilen Erfahrungen in der naturnahen Gartengestaltun
 g. Eine Anmeldung ist nicht notwendig und die Teilnahme kostenfrei.\n\nKon
 takt: info@NABU-breisach.de\n\nWebsite
CATEGORIES:Botanik,Insekten,Naturgärten
LOCATION:NABU-Garten erleben! NABU-Garten in Breisach-Niederrimsingen\, Eck
 e Steige/Vogelsang\, Breisach\, 79206\, Deutschland
GEO:47.986517;7.673582
X-APPLE-STRUCTURED-LOCATION;VALUE=URI;X-ADDRESS=Ecke Steige/Vogelsang\, Bre
 isach\, 79206\, Deutschland;X-APPLE-RADIUS=100;X-TITLE=NABU-Garten in Brei
 sach-Niederrimsingen:geo:47.986517,7.673582
END:VEVENT
END:VCALENDAR