BEGIN:VCALENDAR
VERSION:2.0
PRODID:-//wp-events-plugin.com//7.2.3.1//EN
BEGIN:VEVENT
UID:0-584@tag-der-artenvielfalt-bw.de
DTSTART:20260613T200000Z
DTEND:20260613T224500Z
DTSTAMP:20260305T073326Z
URL:https://tag-der-artenvielfalt-bw.de/tda/nachtfalterleuchtabend-nahe-de
 s-herrmannsees/
SUMMARY:Nachtfalterleuchtabend nahe des Herrmannsees
DESCRIPTION:Wir laden Sie ein  in die Welt der Nachfalter. Durch Licht wer
 den Nachtfalter angelockt und können so bestimmt werden.\n\nVeranstaltung
 sort: Radweg zwischen Karlsbad Langensteinbach und Ittersbach am Hermannse
 e\n\nLeitung: BUND Schmetterlingsguide Peter Schullerer\n\nUnkostenbeitrag
 : Spende erbeten\n\nInfos und Anmeldung: Martina Schmidt-Schüssler\, Tel.
  0157 31332170\, martina.schuessler@bund.net\n\nWichtig: Bitte Stirnlampe 
 oder Taschenlampe mitbringen. Gerne auch Nachtfalterbestimmungsbuch\, fall
 s vorhanden.\n\nParkmöglichkeiten am Wanderparkplatz gegenüber des Herma
 nnsees. Vorsicht beim Überqueren der Landstraße.\n\nBei Regen\, Sturm od
 er Gewitter findet die Veranstaltung nicht statt\, bitte beachten Sie aktu
 elle Infos auf der Webseite\n\nEine Veranstaltung  des BUND Mittleres Alb
 tal  /Projekt Artenvielfalt\, siehe https://www.kraeutergarten-waldbronn.
 de/projekt-artenvielfalt/ oder https://mittleres-albtal.bund.net/termine-1
 /
CATEGORIES:Insekten
LOCATION:Nachtfalterleuchtabend nahe des Herrmannsees Hermannsee zwischen K
 arlsbad- Langensteinbach und Ittersbach\, Landstrasse 622\, Karlsbad\, 763
 07\, Deutschland
GEO:48.905018;8.500266
X-APPLE-STRUCTURED-LOCATION;VALUE=URI;X-ADDRESS=Landstrasse 622\, Karlsbad\
 , 76307\, Deutschland;X-APPLE-RADIUS=100;X-TITLE=Hermannsee zwischen Karls
 bad- Langensteinbach und Ittersbach:geo:48.905018,8.500266
END:VEVENT
END:VCALENDAR