BEGIN:VCALENDAR
VERSION:2.0
PRODID:-//wp-events-plugin.com//7.2.3.1//EN
BEGIN:VEVENT
UID:0-587@tag-der-artenvielfalt-bw.de
DTSTART:20260613T163000Z
DTEND:20260613T180000Z
DTSTAMP:20260306T185757Z
URL:https://tag-der-artenvielfalt-bw.de/tda/natur-in-der-elsenzaue-artenvi
 elfalt-oder-ausgeraeumte-landschaft/
SUMMARY:Natur in der Elsenzaue: Artenvielfalt oder ausgeräumte Landschaft
DESCRIPTION:Schon immer unterliegt die Landschaft einem dynamischen Wechsel
 . Das dies noch immer Gültigkeit hat\, kann man in der Talaue der Elsenz 
 zwischen Eppingen und Richen erkennen. Mit dem Ornithologen Ralf Gramlich\
 , Gemmingen wollen wir einen Blick auf die Biodiversität werfen und uns i
 m Detail einige interessante Details anschauen. Die Veranstaltung findet i
 m Rahmen der Initiative des Landesnaturschutzverband Baden-Württemberg e.
 V. (LNV) statt\, unter dem Titel: Tag der Artenvielfalt.\nDas Ende der Ver
 anstaltung wird im Gelände sein\, den Rückweg übernimmt jeder selbst.\n
 \nVeranstalter: ORNI Schule\, Stadt Eppingen\nTermin: Sa 13. Juni 2026 um 
 17:30 Uhr bis ca. 19:00 Uhr\nTreff: Kläranlage in Eppingen\nReferent: Ral
 f Gramlich\, ORNI Schule e.V.\nUnkostenbeitrag: kostenfrei\, Spenden willk
 ommen\nMitbringen: Fernglas und gute Laune\nKontakt u. Anmeldung: ornischu
 le@web.de\nThemen: Talaue\, Fließgewässer\, Vogelwelt\, Biber\n\n\n\nBil
 d: Nilgans (Alopochen aegyptiaca)
CATEGORIES:Gewässer,Sonstige,Vögel
LOCATION:Natur in der Elsenzaue: Artenvielfalt oder ausgeräumte Landschaft
  Kläranlage Eppingen - Elsenzaue\, Scheuerlesstraße 52\, Eppingen\, 7503
 1\, Deutschland
GEO:49.141407;8.925156
X-APPLE-STRUCTURED-LOCATION;VALUE=URI;X-ADDRESS=Scheuerlesstraße 52\, Eppi
 ngen\, 75031\, Deutschland;X-APPLE-RADIUS=100;X-TITLE=Kläranlage Eppingen
  - Elsenzaue:geo:49.141407,8.925156
END:VEVENT
END:VCALENDAR