BEGIN:VCALENDAR
VERSION:2.0
PRODID:-//wp-events-plugin.com//7.2.3.1//EN
BEGIN:VEVENT
UID:0-304@tag-der-artenvielfalt-bw.de
DTSTART;TZID=Europe/Berlin:20250523T130000
DTEND;TZID=Europe/Berlin:20250523T150000
DTSTAMP:20250203T170736Z
URL:https://tag-der-artenvielfalt-bw.de/tda/naturrallye-2/
SUMMARY:Naturrallye
DESCRIPTION:Die Naturschutz-AG des WHG Durmersheim lädt ganz herzlich zur 
 Naturrallye ein. Es wird verschiedene Stationen rund um das Thema: „Natu
 r erleben\, Natur begreifen“ geben. Schnitzen\, basteln\, keschern und B
 estimmungsübungen. Für Kuchen und Getränke ist gesorgt!\n\nDabei helfen
  Mitglieder der Naturschutz-AG\, Lehrerinnen und die Biologin Tanja Hofmei
 ster vom Naturschutzzentrum Karlsruhe-Rappenwört.\n\nTermin: 23.5.2025 13
 -15 Uhr\n\nWo: Federbachteich des Wilhelm-Hausenstein-Gymnasiums\n\nEs ist
  keine Anmeldung erforderlich\, einfach vorbeikommen!\n\nWir freuen uns au
 f euch!
CATEGORIES:Gewässer,Insekten
LOCATION:Naturrallye Federbachteich des Wilhelm-Hausenstein-Gymnasiums\, We
 ißenburgerstraße 42\, Durmersheim\, 76448\, Deutschland
GEO:48.935264;8.268242
X-APPLE-STRUCTURED-LOCATION;VALUE=URI;X-ADDRESS=Weißenburgerstraße 42\, D
 urmersheim\, 76448\, Deutschland;X-APPLE-RADIUS=100;X-TITLE=Federbachteich
  des Wilhelm-Hausenstein-Gymnasiums:geo:48.935264,8.268242
END:VEVENT
BEGIN:VTIMEZONE
TZID:Europe/Berlin
X-LIC-LOCATION:Europe/Berlin
BEGIN:DAYLIGHT
DTSTART:20250330T030000
TZOFFSETFROM:+0100
TZOFFSETTO:+0200
TZNAME:CEST
END:DAYLIGHT
END:VTIMEZONE
END:VCALENDAR