BEGIN:VCALENDAR
VERSION:2.0
PRODID:-//wp-events-plugin.com//7.2.3.1//EN
BEGIN:VEVENT
UID:0-640@tag-der-artenvielfalt-bw.de
DTSTART:20260614T130000Z
DTEND:20260614T170000Z
DTSTAMP:20260420T113436Z
URL:https://tag-der-artenvielfalt-bw.de/tda/perle-der-baar-naturschutzgebi
 et-mittelmess/
SUMMARY:Perle der Baar: Naturschutzgebiet Mittelmess
DESCRIPTION:Früher ein Ort des Torfabbaus\, heute ein Mekka für Vogelfreu
 nde: Otto Körner führt die Gäste des Baarvereins in das größte Donaue
 schinger Naturschutzgebiet. Aber nicht nur Vögel fühlen sich im Mittelme
 ss wohl: auch seltene Schmetterlinge kann am dort beobachten. Und ein Land
 wirt erzählt\, wie er den ökologischen Wert des Gebietes durch angepasst
 e Bewirtschaftung erhält.\n\nkeine Anmeldung erforderlich\, keine Teilnah
 megebühr\n\nwww.baarverein.de/events/\n\ninfo@baarverein.de
CATEGORIES:Insekten,Vögel
LOCATION:Perle der Baar: Naturschutzgebiet Mittelmess Immenhöfe bei Pfohre
 n\, Immenhöfe 17\, Donaueschingen\, 78166\, Deutschland
GEO:47.95811;8.56008
X-APPLE-STRUCTURED-LOCATION;VALUE=URI;X-ADDRESS=Immenhöfe 17\, Donaueschin
 gen\, 78166\, Deutschland;X-APPLE-RADIUS=100;X-TITLE=Immenhöfe bei Pfohre
 n:geo:47.95811,8.56008
END:VEVENT
END:VCALENDAR