BEGIN:VCALENDAR
VERSION:2.0
PRODID:-//wp-events-plugin.com//7.2.3.1//EN
BEGIN:VEVENT
UID:0-585@tag-der-artenvielfalt-bw.de
DTSTART:20260613T200000Z
DTEND:20260613T213000Z
DTSTAMP:20260305T080901Z
URL:https://tag-der-artenvielfalt-bw.de/tda/so-still-ist-nicht-die-nacht-2
 /
SUMMARY:So still ist nicht die Nacht
DESCRIPTION:Vortrag mit Informationen über Fledermäuse und Echometerortun
 g der Tiere in der Dämmerung.\nReferent: Otto Schwabe\n\nAnmeldung erford
 erlich unter tourismus@schelklingen.de oder telefonisch 07394 24817\nDie T
 eilnahme ist kostenfrei.\n\nTreffpunkt ist der Grillplatz am Hohle Fels.\n
 \nBei Regen/schlechter Witterung entfällt die Veranstaltung.\n\nhttps://w
 ww.schwaebischealb.de/staedte-orte/schelklingen#/eventDate/a127ca94-de0d-4
 6f9-9acd-9d56105b49b0\n\n&nbsp\;
CATEGORIES:Fledermäuse
LOCATION:So still ist nicht die Nacht Hohle Fels\, Auf dem Hauchen 1\, Sche
 lklingen\, 89601\, Deutschland
GEO:48.379639;9.749223
X-APPLE-STRUCTURED-LOCATION;VALUE=URI;X-ADDRESS=Auf dem Hauchen 1\, Schelkl
 ingen\, 89601\, Deutschland;X-APPLE-RADIUS=100;X-TITLE=Hohle Fels:geo:48.3
 79639,9.749223
END:VEVENT
END:VCALENDAR