BEGIN:VCALENDAR
VERSION:2.0
PRODID:-//wp-events-plugin.com//7.2.3.1//EN
BEGIN:VEVENT
UID:0-645@tag-der-artenvielfalt-bw.de
DTSTART:20260613T100000Z
DTEND:20260613T170000Z
DTSTAMP:20260424T143019Z
URL:https://tag-der-artenvielfalt-bw.de/tda/tag-der-artenvielfalt-im-stadt
 garten-freiburg-mitmachstaende-und-exkursionen/
SUMMARY:Tag der Artenvielfalt im Stadtgarten Freiburg Mitmachstände und Ex
 kursionen
DESCRIPTION:11- 18 Uhr Mitmach- und Infostände\n\n mit dabei Lepido Andr
 e Grabs\, Nabu\, Freiburg packt an\, Umweltschutzamt Freiburg\, BUND Ortsg
 ruppe\, BUND Jugend\, Bachpaten\, Ökostation\nWeitere Infos: https://oeko
 station.de/event/vorankuendigung-zum-freiburger-tag-der-artenvielfalt-2/\n
 Kostenlose Veranstaltung\, alle sind willkommen! \nExkursionen: \n11:30 
 Uhr Insektenexkursion mit Klaus Rennwald \n14 Uhr Fahrradexkursion zur Z
 ähringer Höhe\n15 Uhr Baumscheibenexkursion mit Fritz Ritzmann\n15 Uhr E
 xkursion am Schönberg* \n16 Uhr Exkursion zum Alten Friedhof \n22 Uhr S
 chmetterlingslichtfang mit Klaus Rennwald\n22 Uhr Fledermausexkursion mit 
 dem Fledermausnetzwerk\n*Treffpunkt am Achillea Heilpflanzengarten. Dauer:
  1-2h Initiative FrOSch Anmeldung bitte unter: max.bambey@googlemail.com\n
 \n
CATEGORIES:Botanik,Fledermäuse,Gewässer,Insekten,Sonstige
LOCATION:Tag der Artenvielfalt im Stadtgarten Freiburg Mitmachstände und E
 xkursionen Stadtgarten Freiburg\, Ludwigstrasse 26\, Freiburg im Breisgau\
 , 79098\, Deutschland
GEO:47.998475;7.858844
X-APPLE-STRUCTURED-LOCATION;VALUE=URI;X-ADDRESS=Ludwigstrasse 26\, Freiburg
  im Breisgau\, 79098\, Deutschland;X-APPLE-RADIUS=100;X-TITLE=Stadtgarten 
 Freiburg:geo:47.998475,7.858844
END:VEVENT
END:VCALENDAR