BEGIN:VCALENDAR
VERSION:2.0
PRODID:-//wp-events-plugin.com//7.2.3.1//EN
BEGIN:VEVENT
UID:0-642@tag-der-artenvielfalt-bw.de
DTSTART:20260614T120000Z
DTEND:20260614T160000Z
DTSTAMP:20260420T072910Z
URL:https://tag-der-artenvielfalt-bw.de/tda/von-der-erddeponie-zum-biotopv
 erbund/
SUMMARY:Von der Erddeponie zum Biotopverbund
DESCRIPTION:Referenten: Karl Gentner und Andreas Walter\n\nFührung über d
 as Gelände der Naturschutzgruppe Vorderes Härtsfeld\, das sich über die
  letzten Jahrzehnte von einer 2\,2 ha großen Erddeponie zum Biotop entwic
 kelt hat.\n\nEin Ausflug von der Vergangenheit über die Gegenwart in die 
 Zukunft.\n\nwww.nsg-haertsfeld.de\n\nAnsprechpartner ist Karl Gentner\, te
 l 015115133305\n\nEine Anmeldung ist nicht erforderlich.
CATEGORIES:Botanik,Fledermäuse,Gewässer,Insekten,Naturgärten,Reptilien,
 Vögel
LOCATION:Von der Erddeponie zum Biotopverbund Naturschutzzentrum der Naturs
 chutzgruppe\, Bei der Steingrube 9\, Aalen-Ebnat\, 73432\, Deutschland
GEO:48.800549;10.18625
X-APPLE-STRUCTURED-LOCATION;VALUE=URI;X-ADDRESS=Bei der Steingrube 9\, Aale
 n-Ebnat\, 73432\, Deutschland;X-APPLE-RADIUS=100;X-TITLE=Naturschutzzentru
 m der Naturschutzgruppe:geo:48.800549,10.18625
END:VEVENT
END:VCALENDAR