BEGIN:VCALENDAR
VERSION:2.0
PRODID:-//wp-events-plugin.com//7.2.3.1//EN
BEGIN:VEVENT
UID:0-589@tag-der-artenvielfalt-bw.de
DTSTART:20260612T140000Z
DTEND:20260612T173000Z
DTSTAMP:20260306T185748Z
URL:https://tag-der-artenvielfalt-bw.de/tda/waldameisen-wanderung/
SUMMARY:Waldameisen Wanderung
DESCRIPTION:Auf einer leichten Wanderung besuchen wir die Lebensräume der 
 Waldameisen und ihre Ameisenhügel. Es gibt spannende Einblicke in das Leb
 en dieser Waldbewohner und wir erfahren\, welche besonderen Aufgaben sie i
 m Ökosystem Wald übernehmen.\n\nStrecke ca. 5\,5 km.\n\nEine Anmeldung i
 st nicht erforderlich.\n\nTreffpunkt Wanderparkplatz langer Kirschbaum:\nA
 nfahrt mit dem Bus von Heidelberg oder Wilhelmsfeld direkt zur Bushalteste
 lle langer Kirschbaum\, Linie 34. Kostenlose Parkmöglichkeiten sind ausre
 ichend vor Ort gegeben.\n\nAnsprechpartnerin: Försterin Sophie Ernst\, so
 phie.ernst@forstbw.de\n\nWebsite: ForstBW
CATEGORIES:Insekten,Wald
LOCATION:Waldameisen Wanderung Wanderparkplatz langer Kirschbaum\, langer K
 irschbaum\, Heidelberg\, 69118\, Deutschland
GEO:49.458836;8.750836
X-APPLE-STRUCTURED-LOCATION;VALUE=URI;X-ADDRESS=langer Kirschbaum\, Heidelb
 erg\, 69118\, Deutschland;X-APPLE-RADIUS=100;X-TITLE=Wanderparkplatz lange
 r Kirschbaum:geo:49.458836,8.750836
END:VEVENT
END:VCALENDAR