BEGIN:VCALENDAR
VERSION:2.0
PRODID:-//wp-events-plugin.com//7.2.3.1//EN
BEGIN:VEVENT
UID:0-551@tag-der-artenvielfalt-bw.de
DTSTART:20260614T090000Z
DTEND:20260614T160000Z
DTSTAMP:20260119T104020Z
URL:https://tag-der-artenvielfalt-bw.de/tda/waldtag-auf-dem-ochsenberg/
SUMMARY:Waldtag auf dem Ochsenberg
DESCRIPTION:Waldtag – Entdecken\, Staunen\, Lernen\n\nEin Naturerlebnis f
 ür Groß und Klein\n\nBeim Waldtag laden wir alle Naturbegeisterten ein\,
  den Lebensraum Wald mit all seinen faszinierenden Facetten zu entdecken. 
 An mehreren interaktiven Stationen erhalten Besucher spannende Einblicke i
 n das Ökosystem Wald\, seine Bewohner und die Menschen\, die sich um sein
 en Schutz und seine Nutzung kümmern.\n\n🐦 Station: Vögel im Wald\n\nE
 rforschen Sie die Welt der heimischen Waldvögel!\n\n🍄 Station: Pilze 
 – die heimlichen Netzwerker\n\nPilze sind weit mehr als Sammelobjekte: S
 ie bilden das „Internet des Waldes“.\nAn dieser Station erfahren Besuc
 her\, wie Pilze mit Bäumen zusammenarbeiten\, Nährstoffe transportieren 
 und zur Bodenfruchtbarkeit beitragen. Beispiele von Speise-\, Gift- und Ho
 lz zersetzenden Pilzen veranschaulichen ihre Vielfalt.\n\n🐝 Station: Im
 kerei im Wald\n\nWie leben Honigbienen? Was macht eine Waldtracht aus?\nNa
 türlich gibt es auch die Möglichkeit\, echten Waldhonig zu probieren.\n\
 n🌿 Station: Waldrandgestaltung\n\nDer Übergang zwischen Feld und Wald 
 ist ein Hotspot der Artenvielfalt.\nHier lernen Teilnehmende\, wie ein nat
 urnaher Waldrand aufgebaut ist\, welche Pflanzen und welche lichtliebenden
  Arten dort besonders wertvoll sind und wie eine fachgerechte Gestaltung d
 as gesamte Waldökosystem stärkt.\n\nNeben dieses Stationen gibt es noch 
 viele weitere mit Interessanten Informationen rund um den Wald\n\n🎒 Fü
 r wen ist der Waldtag geeignet?\n\nFür Familien\, Naturfreunde und alle\,
  die den Wald mit neuen Augen sehen möchten.\nDie Stationen sind kindgere
 cht aufbereitet und bieten auch für Erwachsene spannende Hintergrundinfor
 mationen.\n\n&nbsp\;\n\n🎶 🍽️ Für das leibliche Wohl ist gesorgt\n
 Für Essen\, Trinken und stimmungsvolle Musik ist bestens gesorgt – so w
 ird der Waldtag zum rundum gelungenen Erlebnis.\n\n\n\n🪓 Waldarbeitsmei
 sterschaften\nZeitgleich finden die Waldarbeitsmeisterschaften zum baden-w
 ürttembergischen Meistertitel statt.\nBesucher können spannende Wettkäm
 pfe rund um Präzision\, Geschick und professionelles Arbeiten im Wald mit
 erleben – ein beeindruckender Einblick in die Arbeit der Forstprofis.\n\
 n\nFür die Anfahrt bitte einfach nach Königsbronn-Ochsenberg navigieren.
  Vor Ort wird der Verkehr zu geeigneten Parkplätzen navigiert. Von da aus
  fährt im 15-Minuten Takt ein Busshuttle zum nahegelegenen Veranstaltungs
 ort.\n\nEs ist keine Anmeldung notwendig!\n\nWir freuen uns auf Ihren Besu
 ch!\n\nFür Rückfragen: Simon Gökeler (Forstbezirk Östlich Alb)\, Simon
 goekeler@forstbw.de
CATEGORIES:Botanik,Fledermäuse,Insekten,Pilze,Vögel,Wald
LOCATION:Waldtag auf dem Ochsenberg Ochsenberg\, Gräfinstraße\, Königsbr
 onn-Ochsenberg\, 89551\, Deutschland
GEO:48.746392;10.13882
X-APPLE-STRUCTURED-LOCATION;VALUE=URI;X-ADDRESS=Gräfinstraße\, Königsbro
 nn-Ochsenberg\, 89551\, Deutschland;X-APPLE-RADIUS=100;X-TITLE=Ochsenberg:
 geo:48.746392,10.13882
END:VEVENT
END:VCALENDAR